BEGIN:VCALENDAR
VERSION:2.0
PRODID:-//wp-events-plugin.com//7.2.3.1//EN
TZID:Europe/Paris
X-WR-TIMEZONE:Europe/Paris
BEGIN:VEVENT
UID:1@cirfip.org
DTSTART;TZID=Europe/Paris:20221109T180000
DTEND;TZID=Europe/Paris:20221109T200000
DTSTAMP:20221128T100803Z
URL:https://cirfip.org/events/commission-formation-du-09-novembre-2022/
SUMMARY:Commission Formation du 09 Novembre 2022
DESCRIPTION:
CATEGORIES:Evénement interne,Réunion,Réunion de la Commission Formation
END:VEVENT
BEGIN:VTIMEZONE
TZID:Europe/Paris
X-LIC-LOCATION:Europe/Paris
BEGIN:STANDARD
DTSTART:20221030T020000
TZOFFSETFROM:+0200
TZOFFSETTO:+0100
TZNAME:CET
END:STANDARD
END:VTIMEZONE
END:VCALENDAR